BEGIN:VCALENDAR
VERSION:2.0
PRODID:-//The First Aid Zone - ECPv6.15.17.1//NONSGML v1.0//EN
CALSCALE:GREGORIAN
METHOD:PUBLISH
X-WR-CALNAME:The First Aid Zone
X-ORIGINAL-URL:https://thefirstaidzone.co.uk
X-WR-CALDESC:Events for The First Aid Zone
REFRESH-INTERVAL;VALUE=DURATION:PT1H
X-Robots-Tag:noindex
X-PUBLISHED-TTL:PT1H
BEGIN:VTIMEZONE
TZID:Europe/London
BEGIN:DAYLIGHT
TZOFFSETFROM:+0000
TZOFFSETTO:+0100
TZNAME:BST
DTSTART:20180325T010000
END:DAYLIGHT
BEGIN:STANDARD
TZOFFSETFROM:+0100
TZOFFSETTO:+0000
TZNAME:GMT
DTSTART:20181028T010000
END:STANDARD
BEGIN:DAYLIGHT
TZOFFSETFROM:+0000
TZOFFSETTO:+0100
TZNAME:BST
DTSTART:20190331T010000
END:DAYLIGHT
BEGIN:STANDARD
TZOFFSETFROM:+0100
TZOFFSETTO:+0000
TZNAME:GMT
DTSTART:20191027T010000
END:STANDARD
BEGIN:DAYLIGHT
TZOFFSETFROM:+0000
TZOFFSETTO:+0100
TZNAME:BST
DTSTART:20200329T010000
END:DAYLIGHT
BEGIN:STANDARD
TZOFFSETFROM:+0100
TZOFFSETTO:+0000
TZNAME:GMT
DTSTART:20201025T010000
END:STANDARD
END:VTIMEZONE
BEGIN:VTIMEZONE
TZID:UTC
BEGIN:STANDARD
TZOFFSETFROM:+0000
TZOFFSETTO:+0000
TZNAME:UTC
DTSTART:20180101T000000
END:STANDARD
END:VTIMEZONE
BEGIN:VEVENT
DTSTART;TZID=Europe/London:20190406T093000
DTEND;TZID=Europe/London:20190406T163000
DTSTAMP:20260425T174516
CREATED:20180815T190656Z
LAST-MODIFIED:20190213T092446Z
UID:2254-1554543000-1554568200@thefirstaidzone.co.uk
SUMMARY:BLENDED PAEDIATRIC COURSE - 6TH APRIL 2019 - EASTLEIGH
DESCRIPTION:This course meets all requirements for Ofsted and is modern blended learning\, comprising of  6 hours online training\,  followed by a 6 hour practical classroom course\, on successful completion of the course\, your certificate lasting 3 years\, is issued after successful completion of the course. \nInformation about the online course:\nThe link for the online training will be emailed approximately 1 month before the practical day. Once registered you can access from most computers\, tablets and mobile devices and you can login/out as often as you need. The course is easy to follow and enjoyable. The online course must be completed prior to the practical day. \nInformation about the practical day:\nThis day is practical with time for discussion and questions.\nPlease bring a copy/photo of your online certificate and photographic I.D with you.\nTea/coffee & biscuits will be available during the day – please bring a packed lunch or you may purchase a lunchtime  snack at the on-site cafe.\nWear comfortable clothing as the day is fun and interactive. \n 
URL:https://thefirstaidzone.co.uk/event/blended-paediatric-course-6th-april-2019-copy/
LOCATION:Holiday Inn Eastleigh\, Passfield Avenue\,\, Eastleigh\, Southampton\, England\, SO50 9PG\, United Kingdom
CATEGORIES:Blended Paediatric Courses
END:VEVENT
BEGIN:VEVENT
DTSTART;TZID=UTC:20190427T093000
DTEND;TZID=UTC:20190427T163000
DTSTAMP:20260425T174516
CREATED:20180822T110828Z
LAST-MODIFIED:20190402T201838Z
UID:2365-1556357400-1556382600@thefirstaidzone.co.uk
SUMMARY:BLENDED PAEDIATRIC COURSE 27 APRIL 2019 - BASINGSTOKE
DESCRIPTION:SORRY THIS COURSE IS NOW FULL! \nThis course meets all requirements for Ofsted and is modern blended learning\, comprising of 6 hours online training\, followed by a 6 hour practical classroom course\, on successful completion of the course\, your certificate lasting 3 years\, is issued at the end of the practical day. \nInformation about the online course:\nThe link for the online training will be emailed approximately 1 month before the practical day. Once registered you can access from most computers\, tablets and mobile devices and you can login/out as often as you need. The course is easy to follow and enjoyable. The online course must be completed prior to the practical day. \nInformation about the practical day:\nThis day is practical with time for discussion and questions.\nPlease bring a copy/photo of your online certificate and photographic I.D with you.\nWear comfortable clothing as the day is fun and interactive.
URL:https://thefirstaidzone.co.uk/event/blended-paediatric-course-27-april-2019/
CATEGORIES:Blended Paediatric Courses
END:VEVENT
END:VCALENDAR