BEGIN:VCALENDAR
VERSION:2.0
PRODID:-//The First Aid Zone - ECPv6.15.17.1//NONSGML v1.0//EN
CALSCALE:GREGORIAN
METHOD:PUBLISH
X-ORIGINAL-URL:https://thefirstaidzone.co.uk
X-WR-CALDESC:Events for The First Aid Zone
REFRESH-INTERVAL;VALUE=DURATION:PT1H
X-Robots-Tag:noindex
X-PUBLISHED-TTL:PT1H
BEGIN:VTIMEZONE
TZID:Europe/London
BEGIN:DAYLIGHT
TZOFFSETFROM:+0000
TZOFFSETTO:+0100
TZNAME:BST
DTSTART:20200329T010000
END:DAYLIGHT
BEGIN:STANDARD
TZOFFSETFROM:+0100
TZOFFSETTO:+0000
TZNAME:GMT
DTSTART:20201025T010000
END:STANDARD
BEGIN:DAYLIGHT
TZOFFSETFROM:+0000
TZOFFSETTO:+0100
TZNAME:BST
DTSTART:20210328T010000
END:DAYLIGHT
BEGIN:STANDARD
TZOFFSETFROM:+0100
TZOFFSETTO:+0000
TZNAME:GMT
DTSTART:20211031T010000
END:STANDARD
BEGIN:DAYLIGHT
TZOFFSETFROM:+0000
TZOFFSETTO:+0100
TZNAME:BST
DTSTART:20220327T010000
END:DAYLIGHT
BEGIN:STANDARD
TZOFFSETFROM:+0100
TZOFFSETTO:+0000
TZNAME:GMT
DTSTART:20221030T010000
END:STANDARD
END:VTIMEZONE
BEGIN:VTIMEZONE
TZID:UTC
BEGIN:STANDARD
TZOFFSETFROM:+0000
TZOFFSETTO:+0000
TZNAME:UTC
DTSTART:20200101T000000
END:STANDARD
END:VTIMEZONE
BEGIN:VEVENT
DTSTART;TZID=Europe/London:20210109T093000
DTEND;TZID=Europe/London:20210109T163000
DTSTAMP:20260422T081635
CREATED:20201118T180559Z
LAST-MODIFIED:20210107T122907Z
UID:4766-1610184600-1610209800@thefirstaidzone.co.uk
SUMMARY:BLENDED PAEDIATRIC COURSE - 9TH  JANUARY 2021 - SOUTHAMPTON
DESCRIPTION:  **NEW SOUTHAMPTON CITY VENUE AT IBIS HOTEL 1 WEST QUAY ROAD NEXT TO McDONALDS** \n  ONLY 3 SPACES LEFT! \n      PLEASE BOOK EARLY OUR JANUARY COURSES ARE FILLING UP! \n  \nThis course meets all requirements for Ofsted and is modern blended learning\, comprising of  6 hours online training\,  followed by a 6 hour practical classroom course\, on successful completion of the course\, your certificate lasting 3 years\, is issued after successful completion of the course. \nInformation about the online course:\nThe link for the online training will be emailed approximately 1 month before the practical day. Once registered you can access from most computers\, tablets and mobile devices and you can login/out as often as you need. The course is easy to follow and enjoyable. The online course must be completed prior to the practical day. \nInformation about the practical day:\nThis day is practical with time for discussion and questions.\nPlease bring a copy/photo of your online certificate and photographic I.D with you.\nTea/coffee & biscuits will be available during the day – please bring a packed lunch or you may purchase a lunchtime  snack at the on-site cafe.\nWear comfortable clothing as the day is fun and interactive. \nNEW COURSE LAUNCH!\nDOES YOUR SETTING MEET HSE REQUIREMENTS FOR FIRST AID IN THE WORKPLACE?\nUPGRADE NOW BY ADDING ON THE EMERGENCY FIRST AID AT WORK COURSE FOR ONLY £25 EXTRA\nCOMBINED 12 HOUR PAEDIATRIC AND EMERGENCY FIRST AID AT WORK ONLY £100 & STILL BLENDED LEARNING!
URL:https://thefirstaidzone.co.uk/event/blended-paediatric-course-9th-january-2021/
LOCATION:ymca Eastleigh
CATEGORIES:Blended Paediatric Courses
END:VEVENT
BEGIN:VEVENT
DTSTART;TZID=Europe/London:20210116T093000
DTEND;TZID=Europe/London:20210116T163000
DTSTAMP:20260422T081635
CREATED:20200908T063303Z
LAST-MODIFIED:20210113T124555Z
UID:4360-1610789400-1610814600@thefirstaidzone.co.uk
SUMMARY:12 HOUR BLENDED PAEDIATRIC COURSE - 16th JANUARY 2021 - EASTLEIGH
DESCRIPTION:SORRY THIS COURSE IS NOW FULL! \nBOOK EARLY!  WE ARE RECEIVING HIGH DEMAND FOR COURSES! \nThis course meets all requirements for Ofsted and is modern blended learning\, comprising of  6 hours online training\,  followed by a 6 hour practical classroom course\, on successful completion of the course\, your certificate lasting 3 years\, is issued after successful completion of the course. \nInformation about the online course:\nThe link for the online training will be emailed approximately 1 month before the practical day. Once registered you can access from most computers\, tablets and mobile devices and you can login/out as often as you need. The course is easy to follow and enjoyable. The online course must be completed prior to the practical day. \nInformation about the practical day:\nThis day is practical with time for discussion and questions.\nPlease bring a copy/photo of your online certificate and photographic I.D with you.\nTea/coffee & biscuits will be available during the day – please bring a packed lunch or you may purchase a lunchtime  snack at the on-site cafe.\nWear comfortable clothing as the day is fun and interactive. \nNEW COURSE LAUNCH!\nDOES YOUR SETTING MEET HSE REQUIREMENTS FOR FIRST AID IN THE WORKPLACE?\nUPGRADE NOW BY ADDING ON THE EMERGENCY FIRST AID AT WORK COURSE FOR ONLY £25 EXTRA\nCOMBINED 12 HOUR PAEDIATRIC AND EMERGENCY FIRST AID AT WORK ONLY £100 & STILL BLENDED LEARNING!
URL:https://thefirstaidzone.co.uk/event/blended-paediatric-course-16th-january-2021/
LOCATION:Holiday Inn Eastleigh\, Passfield Avenue\,\, Eastleigh\, Southampton\, England\, SO50 9PG\, United Kingdom
CATEGORIES:Blended Paediatric Courses
END:VEVENT
BEGIN:VEVENT
DTSTART;TZID=Europe/London:20210123T093000
DTEND;TZID=Europe/London:20210123T163000
DTSTAMP:20260422T081635
CREATED:20200908T080205Z
LAST-MODIFIED:20210113T194452Z
UID:4413-1611394200-1611419400@thefirstaidzone.co.uk
SUMMARY:BLENDED PAEDIATRIC COURSE - 23rd JANUARY 2021- CHRISTCHURCH
DESCRIPTION:SORRY THIS COURSE IS NOW FULL! \nPLEASE NOTE THIS COURSE IS NOW BEING HELD AT HIGHCLIFFE SCOUT HUT BH23 5LZ \nBOOK EARLY WE ARE RECEIVING A HIGH DEMAND FOR COURSES!  \nThis course meets all requirements for Ofsted and is modern blended learning\, comprising of  6 hours online training\,  followed by a 6 hour practical classroom course\, on successful completion of the course\, your certificate lasting 3 years\, is issued at the end of the practical day. \nInformation about the online course:\nThe link for the online training will be emailed approximately 1 month before the practical day. Once registered you can access from most computers\, tablets and mobile devices and you can login/out as often as you need. The course is easy to follow and enjoyable. The online course must be completed prior to the practical day. \nInformation about the practical day:\nThis day is practical with time for discussion and questions.\nPlease bring a copy/photo of your online certificate and photographic I.D with you.\nPlease bring lunch/refreshments with you.\nWear comfortable clothing as the day is fun and interactive. \nNEW COURSE LAUNCH!\nDOES YOUR SETTING MEET HSE REQUIREMENTS FOR FIRST AID IN THE WORKPLACE?\nUPGRADE NOW BY ADDING ON THE EMERGENCY FIRST AID AT WORK COURSE FOR ONLY £25 EXTRA\nCOMBINED 12 HOUR PAEDIATRIC AND EMERGENCY FIRST AID AT WORK ONLY £100 & STILL BLENDED LEARNING!
URL:https://thefirstaidzone.co.uk/event/blended-paediatric-course-23-january-2021/
CATEGORIES:Blended Paediatric Courses
END:VEVENT
BEGIN:VEVENT
DTSTART;TZID=UTC:20210130T093000
DTEND;TZID=UTC:20210130T163000
DTSTAMP:20260422T081635
CREATED:20200910T173805Z
LAST-MODIFIED:20210127T203509Z
UID:4482-1611999000-1612024200@thefirstaidzone.co.uk
SUMMARY:BLENDED PAEDIATRIC COURSE 30TH JANUARY 2021 - FAREHAM
DESCRIPTION:BOOK EARLY! WE ARE EXPREIENCING A HIGH DEMAND FOR COURSES! \nThis course meets all requirements for Ofsted and is modern blended learning\, comprising of 6 hours online training\, followed by a 6 hour practical classroom course\, on successful completion of the course\, your certificate lasting 3 years\, is issued at the end of the practical day. \nInformation about the online course:\nThe link for the online training will be emailed approximately 1 month before the practical day. Once registered you can access from most computers\, tablets and mobile devices and you can login/out as often as you need. The course is easy to follow and enjoyable. The online course must be completed prior to the practical day. \nInformation about the practical day:\nThis day is practical with time for discussion and questions.\nPlease bring a copy/photo of your online certificate and photographic I.D with you.\nWear comfortable clothing as the day is fun and interactive. \n\nNEW COURSE LAUNCH!\nDOES YOUR SETTING MEET HSE REQUIREMENTS FOR FIRST AID IN THE WORKPLACE?\nUPGRADE NOW BY ADDING ON THE EMERGENCY FIRST AID AT WORK COURSE FOR ONLY £25 EXTRA\nCOMBINED 12 HOUR PAEDIATRIC AND EMERGENCY FIRST AID AT WORK ONLY £100 & STILL BLENDED LEARNING! \n+ GOOGLE CALENDAR+ ICAL EXPORT
URL:https://thefirstaidzone.co.uk/event/blended-paediatric-course-30-january-2021/
LOCATION:Holiday Inn Fareham\, 2-8 Cartwright Drive\, Titchfield\, Fareham\, Hampshire\, PO15 5RJ\, United Kingdom
CATEGORIES:Blended Paediatric Courses
END:VEVENT
END:VCALENDAR