BEGIN:VCALENDAR
VERSION:2.0
PRODID:-//The First Aid Zone - ECPv6.15.17.1//NONSGML v1.0//EN
CALSCALE:GREGORIAN
METHOD:PUBLISH
X-ORIGINAL-URL:https://thefirstaidzone.co.uk
X-WR-CALDESC:Events for The First Aid Zone
REFRESH-INTERVAL;VALUE=DURATION:PT1H
X-Robots-Tag:noindex
X-PUBLISHED-TTL:PT1H
BEGIN:VTIMEZONE
TZID:UTC
BEGIN:STANDARD
TZOFFSETFROM:+0000
TZOFFSETTO:+0000
TZNAME:UTC
DTSTART:20200101T000000
END:STANDARD
END:VTIMEZONE
BEGIN:VTIMEZONE
TZID:Europe/London
BEGIN:DAYLIGHT
TZOFFSETFROM:+0000
TZOFFSETTO:+0100
TZNAME:BST
DTSTART:20200329T010000
END:DAYLIGHT
BEGIN:STANDARD
TZOFFSETFROM:+0100
TZOFFSETTO:+0000
TZNAME:GMT
DTSTART:20201025T010000
END:STANDARD
BEGIN:DAYLIGHT
TZOFFSETFROM:+0000
TZOFFSETTO:+0100
TZNAME:BST
DTSTART:20210328T010000
END:DAYLIGHT
BEGIN:STANDARD
TZOFFSETFROM:+0100
TZOFFSETTO:+0000
TZNAME:GMT
DTSTART:20211031T010000
END:STANDARD
BEGIN:DAYLIGHT
TZOFFSETFROM:+0000
TZOFFSETTO:+0100
TZNAME:BST
DTSTART:20220327T010000
END:DAYLIGHT
BEGIN:STANDARD
TZOFFSETFROM:+0100
TZOFFSETTO:+0000
TZNAME:GMT
DTSTART:20221030T010000
END:STANDARD
END:VTIMEZONE
BEGIN:VEVENT
DTSTART;TZID=UTC:20210306T093000
DTEND;TZID=UTC:20210306T163000
DTSTAMP:20260422T050459
CREATED:20200918T193750Z
LAST-MODIFIED:20210226T181933Z
UID:4600-1615023000-1615048200@thefirstaidzone.co.uk
SUMMARY:BLENDED PAEDIATRIC COURSE 6 MARCH 2021 - FARNBOROUGH
DESCRIPTION:THIS COURSE IS FULL PLEASE EMAIL OR PHONE IF YOU WOULD LIKE A SPACE OR TO GO ON THE WAITING LIST! \nThis course meets all requirements for Ofsted and is modern blended learning\, comprising of  6 hours online training\,  followed by a 6 hour practical classroom course\, on successful completion of the course\, your certificate lasting 3 years\, is issued at the end of the practical day. \nInformation about the online course:\nThe link for the online training will be emailed approximately 1 month before the practical day. Once registered you can access from most computers\, tablets and mobile devices and you can login/out as often as you need. The course is easy to follow and enjoyable. The online course must be completed prior to the practical day. \nInformation about the practical day:\nThis day is practical with time for discussion and questions.\nPlease bring a copy/photo of your online certificate and photographic I.D with you.\nPlease bring lunch/refreshments with you.\nWear comfortable clothing as the day is fun and interactive. \nNEW COURSE LAUNCH!\nDOES YOUR SETTING MEET HSE REQUIREMENTS FOR FIRST AID IN THE WORKPLACE?\nUPGRADE NOW BY ADDING ON THE EMERGENCY FIRST AID AT WORK COURSE FOR ONLY £25 EXTRA\nCOMBINED 12 HOUR PAEDIATRIC AND EMERGENCY FIRST AID AT WORK ONLY £100 & STILL BLENDED LEARNING! \n\n+ GOOGLE CALENDAR+ ICAL EXPORT
URL:https://thefirstaidzone.co.uk/event/blended-paediatric-course-6-march-2021/
LOCATION:Holiday Inn Farnborough\, Lynchford Road\, Farnborough\, GU14 6AZ\, United Kingdom
CATEGORIES:Blended Paediatric Courses
END:VEVENT
BEGIN:VEVENT
DTSTART;TZID=Europe/London:20210313T093000
DTEND;TZID=Europe/London:20210313T163000
DTSTAMP:20260422T050500
CREATED:20201118T182821Z
LAST-MODIFIED:20210308T173939Z
UID:4777-1615627800-1615653000@thefirstaidzone.co.uk
SUMMARY:BLENDED PAEDIATRIC COURSE -13TH MARCH 2021 - SOUTHAMPTON
DESCRIPTION:  **NEW SOUTHAMPTON CITY VENUE AT IBIS HOTEL  1 WEST QUAY ROAD NEXT TO McDONALDS ** \n      BOOK EARLY WE HAVE 1 SPACES LEFT! \n  \nThis course meets all requirements for Ofsted and is modern blended learning\, comprising of  6 hours online training\,  followed by a 6 hour practical classroom course\, on successful completion of the course\, your certificate lasting 3 years\, is issued after successful completion of the course. \nInformation about the online course:\nThe link for the online training will be emailed approximately 1 month before the practical day. Once registered you can access from most computers\, tablets and mobile devices and you can login/out as often as you need. The course is easy to follow and enjoyable. The online course must be completed prior to the practical day. \nInformation about the practical day:\nThis day is practical with time for discussion and questions.\nPlease bring a copy/photo of your online certificate and photographic I.D with you.\nTea/coffee & biscuits will be available during the day – please bring a packed lunch or you may purchase a lunchtime  snack at the on-site cafe.\nWear comfortable clothing as the day is fun and interactive. \nNEW COURSE LAUNCH!\nDOES YOUR SETTING MEET HSE REQUIREMENTS FOR FIRST AID IN THE WORKPLACE?\nUPGRADE NOW BY ADDING ON THE EMERGENCY FIRST AID AT WORK COURSE FOR ONLY £25 EXTRA\nCOMBINED 12 HOUR PAEDIATRIC AND EMERGENCY FIRST AID AT WORK ONLY £100 & STILL BLENDED LEARNING!
URL:https://thefirstaidzone.co.uk/event/blended-paediatric-13th-march-2021-2021/
LOCATION:ymca Eastleigh
CATEGORIES:Blended Paediatric Courses
END:VEVENT
BEGIN:VEVENT
DTSTART;TZID=Europe/London:20210320T093000
DTEND;TZID=Europe/London:20210320T163000
DTSTAMP:20260422T050500
CREATED:20200908T080841Z
LAST-MODIFIED:20210310T105544Z
UID:4418-1616232600-1616257800@thefirstaidzone.co.uk
SUMMARY:BLENDED PAEDIATRIC COURSE - 20TH MARCH 2021- CHRISTCHURCH
DESCRIPTION:SORRY THIS COURSE IS NOW FULL! \nWE HAVE SPACES ON OUR BOURNEMOUTH/POOLE COURSE ON 24TH APRIL \nBOOK EARLY WE ARE RECEIVING A HIGH DEMAND FOR COURSES! \n  \nThis course meets all requirements for Ofsted and is modern blended learning\, comprising of  6 hours online training\,  followed by a 6 hour practical classroom course\, on successful completion of the course\, your certificate lasting 3 years\, is issued at the end of the practical day. \nInformation about the online course:\nThe link for the online training will be emailed approximately 1 month before the practical day. Once registered you can access from most computers\, tablets and mobile devices and you can login/out as often as you need. The course is easy to follow and enjoyable. The online course must be completed prior to the practical day. \nInformation about the practical day:\nThis day is practical with time for discussion and questions.\nPlease bring a copy/photo of your online certificate and photographic I.D with you.\nPlease bring lunch/refreshments with you.\nWear comfortable clothing as the day is fun and interactive. \nNEW COURSE LAUNCH!\nDOES YOUR SETTING MEET HSE REQUIREMENTS FOR FIRST AID IN THE WORKPLACE?\nUPGRADE NOW BY ADDING ON THE EMERGENCY FIRST AID AT WORK COURSE FOR ONLY £25 EXTRA\nCOMBINED 12 HOUR PAEDIATRIC AND EMERGENCY FIRST AID AT WORK ONLY £100 & STILL BLENDED LEARNING!
URL:https://thefirstaidzone.co.uk/event/blended-paediatric-course-20-march-2021/
CATEGORIES:Blended Paediatric Courses
END:VEVENT
BEGIN:VEVENT
DTSTART;TZID=Europe/London:20210327T093000
DTEND;TZID=Europe/London:20210327T163000
DTSTAMP:20260422T050500
CREATED:20200908T064803Z
LAST-MODIFIED:20210303T225107Z
UID:4372-1616837400-1616862600@thefirstaidzone.co.uk
SUMMARY:12 HOUR BLENDED PAEDIATRIC COURSE - 27th MARCH 2021 - EASTLEIGH
DESCRIPTION:SORRY THIS COURSE IS NOW FULL! \nNEXT EASTLEIGH COURSE IS SATURDAY 17TH APRIL  – BOOK EARLY! \nThis course meets all requirements for Ofsted and is modern blended learning\, comprising of  6 hours online training\,  followed by a 6 hour practical classroom course\, on successful completion of the course\, your certificate lasting 3 years\, is issued after successful completion of the course. \nInformation about the online course:\nThe link for the online training will be emailed approximately 1 month before the practical day. Once registered you can access from most computers\, tablets and mobile devices and you can login/out as often as you need. The course is easy to follow and enjoyable. The online course must be completed prior to the practical day. \nInformation about the practical day:\nThis day is practical with time for discussion and questions.\nPlease bring a copy/photo of your online certificate and photographic I.D with you.\nTea/coffee & biscuits will be available during the day – please bring a packed lunch or you may purchase a lunchtime  snack at the on-site cafe.\nWear comfortable clothing as the day is fun and interactive. \nNEW COURSE LAUNCH!\nDOES YOUR SETTING MEET HSE REQUIREMENTS FOR FIRST AID IN THE WORKPLACE?\nUPGRADE NOW BY ADDING ON THE EMERGENCY FIRST AID AT WORK COURSE FOR ONLY £25 EXTRA\nCOMBINED 12 HOUR PAEDIATRIC AND EMERGENCY FIRST AID AT WORK ONLY £100 & STILL BLENDED LEARNING!
URL:https://thefirstaidzone.co.uk/event/blended-paediatric-course-27-march-2021/
LOCATION:Holiday Inn Eastleigh\, Passfield Avenue\,\, Eastleigh\, Southampton\, England\, SO50 9PG\, United Kingdom
CATEGORIES:Blended Paediatric Courses
END:VEVENT
END:VCALENDAR