BEGIN:VCALENDAR
VERSION:2.0
PRODID:-//The First Aid Zone - ECPv6.15.17.1//NONSGML v1.0//EN
CALSCALE:GREGORIAN
METHOD:PUBLISH
X-ORIGINAL-URL:https://thefirstaidzone.co.uk
X-WR-CALDESC:Events for The First Aid Zone
REFRESH-INTERVAL;VALUE=DURATION:PT1H
X-Robots-Tag:noindex
X-PUBLISHED-TTL:PT1H
BEGIN:VTIMEZONE
TZID:UTC
BEGIN:STANDARD
TZOFFSETFROM:+0000
TZOFFSETTO:+0000
TZNAME:UTC
DTSTART:20210101T000000
END:STANDARD
END:VTIMEZONE
BEGIN:VEVENT
DTSTART;TZID=UTC:20220108T093000
DTEND;TZID=UTC:20220108T163000
DTSTAMP:20260421T145130
CREATED:20211013T204122Z
LAST-MODIFIED:20211229T191116Z
UID:5611-1641634200-1641659400@thefirstaidzone.co.uk
SUMMARY:12HR BLENDED PAEDIATRIC COURSE 8TH JANUARY 2022 CHRISTCHURCH
DESCRIPTION:PLEASE BOOK EARLY WE ARE CURRENTLY RECEIVING A HIGH DEMAND FOR COURSES! \nThis course meets all requirements for Ofsted and is modern blended learning\, comprising of  6 hours online training\,  followed by a 6 hour practical classroom course\, on successful completion of the course\, your certificate lasting 3 years\, is issued after successful completion of the course. \nN.B. Your setting will need to also meet HSE Workplace First Aid requirements – we offer the combined 12hr Paediatric and Emergency First Aid at Work (EFAW) course for an additional £20 – this is achieved by completing  a slightly longer e-learning and 30 minutes at the end of the paediatric practical day! ONLY £100 we do not charge vat! \nInformation about the online course:\nThe link for the online training will be emailed approximately 1 month before the practical day. Once registered you can access from most computers\, tablets and mobile devices and you can login/out as often as you need. The course is easy to follow and enjoyable. The online course must be completed prior to the practical day. \nInformation about the practical day:\nThis day is practical with time for discussion and questions.\nPlease bring a copy/photo of your online certificate and photographic I.D with you.\nWear comfortable clothing as the day is fun and interactive
URL:https://thefirstaidzone.co.uk/event/blended-paediatric-course-8th-january-2022/
CATEGORIES:Blended Paediatric Courses
END:VEVENT
END:VCALENDAR