BEGIN:VCALENDAR
VERSION:2.0
PRODID:-//The First Aid Zone - ECPv6.15.17.1//NONSGML v1.0//EN
CALSCALE:GREGORIAN
METHOD:PUBLISH
X-WR-CALNAME:The First Aid Zone
X-ORIGINAL-URL:https://thefirstaidzone.co.uk
X-WR-CALDESC:Events for The First Aid Zone
REFRESH-INTERVAL;VALUE=DURATION:PT1H
X-Robots-Tag:noindex
X-PUBLISHED-TTL:PT1H
BEGIN:VTIMEZONE
TZID:UTC
BEGIN:STANDARD
TZOFFSETFROM:+0000
TZOFFSETTO:+0000
TZNAME:UTC
DTSTART:20180101T000000
END:STANDARD
END:VTIMEZONE
BEGIN:VTIMEZONE
TZID:Europe/London
BEGIN:DAYLIGHT
TZOFFSETFROM:+0000
TZOFFSETTO:+0100
TZNAME:BST
DTSTART:20180325T010000
END:DAYLIGHT
BEGIN:STANDARD
TZOFFSETFROM:+0100
TZOFFSETTO:+0000
TZNAME:GMT
DTSTART:20181028T010000
END:STANDARD
BEGIN:DAYLIGHT
TZOFFSETFROM:+0000
TZOFFSETTO:+0100
TZNAME:BST
DTSTART:20190331T010000
END:DAYLIGHT
BEGIN:STANDARD
TZOFFSETFROM:+0100
TZOFFSETTO:+0000
TZNAME:GMT
DTSTART:20191027T010000
END:STANDARD
BEGIN:DAYLIGHT
TZOFFSETFROM:+0000
TZOFFSETTO:+0100
TZNAME:BST
DTSTART:20200329T010000
END:DAYLIGHT
BEGIN:STANDARD
TZOFFSETFROM:+0100
TZOFFSETTO:+0000
TZNAME:GMT
DTSTART:20201025T010000
END:STANDARD
END:VTIMEZONE
BEGIN:VEVENT
DTSTART;TZID=UTC:20190907T093000
DTEND;TZID=UTC:20190907T163000
DTSTAMP:20260425T104754
CREATED:20180821T184359Z
LAST-MODIFIED:20191125T141855Z
UID:2301-1567848600-1567873800@thefirstaidzone.co.uk
SUMMARY:BLENDED PAEDIATRIC FIRST AID COURSE 7 SEPTEMBER 2019 - ANDOVER
DESCRIPTION:SORRY THIS COURSE IS NOW FULL! \nWE ADVISE TO BOOK EARLY! \nThis course meets all requirements for Ofsted and is modern blended learning\, comprising of 6 hours online training\, followed by a 6 hour practical classroom course\, on successful completion of the course\, your certificate lasting 3 years\, is issued at the end of the practical day. \nInformation about the online course:\nThe link for the online training will be emailed approximately 1 month before the practical day. Once registered you can access from most computers\, tablets and mobile devices and you can login/out as often as you need. The course is easy to follow and enjoyable. The online course must be completed prior to the practical day. \nInformation about the practical day:\nThis day is practical with time for discussion and questions.\nPlease bring a copy/photo of your online certificate and photographic I.D with you.\nWear comfortable clothing as the day is fun and interactive. \nNEW COURSE LAUNCH!\nDOES YOUR SETTING MEET HSE REQUIREMENTS FOR FIRST AID IN THE WORKPLACE?\nUPGRADE NOW BY ADDING ON THE EMERGENCY FIRST AID AT WORK COURSE FOR ONLY £25 EXTRA\nCOMBINED 12 HOUR PAEDIATRIC AND EMERGENCY FIRST AID AT WORK ONLY £100 & STILL BLENDED LEARNING!
URL:https://thefirstaidzone.co.uk/event/blended-paediatric-first-aid-course-7-september-2019/
LOCATION:Priory Hall Andover\, Priory Hall\, Andover\, Hampshire\, SP10 2AB\, United Kingdom
CATEGORIES:Blended Paediatric Courses
END:VEVENT
BEGIN:VEVENT
DTSTART;TZID=Europe/London:20190907T093000
DTEND;TZID=Europe/London:20190907T163000
DTSTAMP:20260425T104754
CREATED:20180821T201607Z
LAST-MODIFIED:20190901T113716Z
UID:2321-1567848600-1567873800@thefirstaidzone.co.uk
SUMMARY:BLENDED PAEDIATRIC COURSE - 7 SEPTEMBER 2019 - CHRISTCHURCH
DESCRIPTION:SORRY THIS COURSE IS NOW FULL! \nWE ADVISE TO BOOK EARLY!! \nThis course meets all requirements for Ofsted and is modern blended learning\, comprising of  6 hours online training\,  followed by a 6 hour practical classroom course\, on successful completion of the course\, your certificate lasting 3 years\, is issued at the end of the practical day. \nInformation about the online course:\nThe link for the online training will be emailed approximately 1 month before the practical day. Once registered you can access from most computers\, tablets and mobile devices and you can login/out as often as you need. The course is easy to follow and enjoyable. The online course must be completed prior to the practical day. \nInformation about the practical day:\nThis day is practical with time for discussion and questions.\nPlease bring a copy/photo of your online certificate and photographic I.D with you.\nPlease bring lunch/refreshments with you.\nWear comfortable clothing as the day is fun and interactive. \nNEW COURSE LAUNCH!\nDOES YOUR SETTING MEET HSE REQUIREMENTS FOR FIRST AID IN THE WORKPLACE?\nUPGRADE NOW BY ADDING ON THE EMERGENCY FIRST AID AT WORK COURSE FOR ONLY £25 EXTRA\nCOMBINED 12 HOUR PAEDIATRIC AND EMERGENCY FIRST AID AT WORK ONLY £100 & STILL BLENDED LEARNING!
URL:https://thefirstaidzone.co.uk/event/blended-paediatric-course-7-september-2019/
LOCATION:The Retreat New Forest\, The Retreat New Forest\, Christchurch\, Dorset\, BH23 7EF\, United Kingdom
CATEGORIES:Blended Paediatric Courses
END:VEVENT
END:VCALENDAR