BEGIN:VCALENDAR
VERSION:2.0
PRODID:-//The First Aid Zone - ECPv6.15.17.1//NONSGML v1.0//EN
CALSCALE:GREGORIAN
METHOD:PUBLISH
X-WR-CALNAME:The First Aid Zone
X-ORIGINAL-URL:https://thefirstaidzone.co.uk
X-WR-CALDESC:Events for The First Aid Zone
REFRESH-INTERVAL;VALUE=DURATION:PT1H
X-Robots-Tag:noindex
X-PUBLISHED-TTL:PT1H
BEGIN:VTIMEZONE
TZID:UTC
BEGIN:STANDARD
TZOFFSETFROM:+0000
TZOFFSETTO:+0000
TZNAME:UTC
DTSTART:20190101T000000
END:STANDARD
END:VTIMEZONE
BEGIN:VEVENT
DTSTART;TZID=UTC:20200613T093000
DTEND;TZID=UTC:20200613T163000
DTSTAMP:20260424T195112
CREATED:20190916T101535Z
LAST-MODIFIED:20200602T110101Z
UID:3429-1592040600-1592065800@thefirstaidzone.co.uk
SUMMARY:BLENDED PAEDIATRIC FIRST AID COURSE 13 JUNE 2020 - POOLE/BOURNEMOUTH  ***EFAW OFFER***
DESCRIPTION:SORRY DUE TO COVID 19 THIS EVENT HAS BEEN POSTPONED. \nThis course meets all requirements for Ofsted and is modern blended learning\, comprising of 6 hours online training\, followed by a 6 hour practical classroom course\, on successful completion of the course\, your certificate lasting 3 years\, is issued at the end of the practical day. \nInformation about the online course:\nThe link for the online training will be emailed approximately 1 month before the practical day. Once registered you can access from most computers\, tablets and mobile devices and you can login/out as often as you need. The course is easy to follow and enjoyable. The online course must be completed prior to the practical day. \nInformation about the practical day:\nThis day is practical with time for discussion and questions.\nPlease bring a copy/photo of your online certificate and photographic I.D with you.\nWear comfortable clothing as the day is fun and interactive. \nNEW COURSE LAUNCH!\nDOES YOUR SETTING MEET HSE REQUIREMENTS FOR FIRST AID IN THE WORKPLACE?\nUPGRADE NOW BY ADDING ON THE EMERGENCY FIRST AID AT WORK COURSE FOR ONLY £25 EXTRA\nCOMBINED 12 HOUR PAEDIATRIC AND EMERGENCY FIRST AID AT WORK ONLY £100 & STILL BLENDED LEARNING! \nTo use offer please add EFAWFREE code at checkout!
URL:https://thefirstaidzone.co.uk/event/blended-paediatric-first-aid-course-13-june-2020-copy/
LOCATION:Little Stars Nursery\, 39 Penn Hill Ave\, Poole\, BH14 9LU\, United Kingdom
CATEGORIES:Blended Paediatric Courses
END:VEVENT
BEGIN:VEVENT
DTSTART;TZID=UTC:20200613T093000
DTEND;TZID=UTC:20200613T163000
DTSTAMP:20260424T195112
CREATED:20191126T135024Z
LAST-MODIFIED:20200602T110004Z
UID:3805-1592040600-1592065800@thefirstaidzone.co.uk
SUMMARY:BLENDED PAEDIATRIC COURSE 13 JUNE 2020 - FARNBOROUGH
DESCRIPTION:  \nSORRY DUE TO COVID 19 THIS EVENT HAS BEEN POSTPONED. \nThis course meets all requirements for Ofsted and is modern blended learning\, comprising of  6 hours online training\,  followed by a 6 hour practical classroom course\, on successful completion of the course\, your certificate lasting 3 years\, is issued at the end of the practical day. \nInformation about the online course:\nThe link for the online training will be emailed approximately 1 month before the practical day. Once registered you can access from most computers\, tablets and mobile devices and you can login/out as often as you need. The course is easy to follow and enjoyable. The online course must be completed prior to the practical day. \nInformation about the practical day:\nThis day is practical with time for discussion and questions.\nPlease bring a copy/photo of your online certificate and photographic I.D with you.\nPlease bring lunch/refreshments with you.\nWear comfortable clothing as the day is fun and interactive. \nNEW COURSE LAUNCH!\nDOES YOUR SETTING MEET HSE REQUIREMENTS FOR FIRST AID IN THE WORKPLACE?\nUPGRADE NOW BY ADDING ON THE EMERGENCY FIRST AID AT WORK COURSE FOR ONLY £25 EXTRA\nCOMBINED 12 HOUR PAEDIATRIC AND EMERGENCY FIRST AID AT WORK ONLY £100 & STILL BLENDED LEARNING! \n\n+ GOOGLE CALENDAR+ ICAL EXPORT
URL:https://thefirstaidzone.co.uk/event/blended-paediatric-course-13-june-2020-2/
LOCATION:Holiday Inn Farnborough\, Lynchford Road\, Farnborough\, Hampshire\, GU14 6AZ\, United Kingdom
CATEGORIES:Blended Paediatric Courses
END:VEVENT
END:VCALENDAR