BEGIN:VCALENDAR
VERSION:2.0
PRODID:-//The First Aid Zone - ECPv6.15.17.1//NONSGML v1.0//EN
CALSCALE:GREGORIAN
METHOD:PUBLISH
X-ORIGINAL-URL:https://thefirstaidzone.co.uk
X-WR-CALDESC:Events for The First Aid Zone
REFRESH-INTERVAL;VALUE=DURATION:PT1H
X-Robots-Tag:noindex
X-PUBLISHED-TTL:PT1H
BEGIN:VTIMEZONE
TZID:UTC
BEGIN:STANDARD
TZOFFSETFROM:+0000
TZOFFSETTO:+0000
TZNAME:UTC
DTSTART:20190101T000000
END:STANDARD
END:VTIMEZONE
BEGIN:VEVENT
DTSTART;TZID=UTC:20201107T093000
DTEND;TZID=UTC:20201107T163000
DTSTAMP:20260424T140340
CREATED:20190416T210139Z
LAST-MODIFIED:20201015T154652Z
UID:2917-1604741400-1604766600@thefirstaidzone.co.uk
SUMMARY:BLENDED PAEDIATRIC FIRST AID COURSE 7 NOVEMBER 2020 - POOLE/BOURNEMOUTH  ***EFAW OFFER***
DESCRIPTION:SORRY THIS COURSE IS NOW FULL!  \nWE HAVE A FEW REMAINING SPACES ON OUR CHRISTCHURCH COURSE ON 21ST NOVEMBER \nBOOK EARLY! LAST DATE FOR COVID EXTENTION RENEWAL IS 25TH NOVEMBER! \nThis course meets all requirements for Ofsted and is modern blended learning\, comprising of 6 hours online training\, followed by a 6 hour practical classroom course\, on successful completion of the course\, your certificate lasting 3 years\, is issued at the end of the practical day. \nInformation about the online course:\nThe link for the online training will be emailed approximately 1 month before the practical day. Once registered you can access from most computers\, tablets and mobile devices and you can login/out as often as you need. The course is easy to follow and enjoyable. The online course must be completed prior to the practical day. \nInformation about the practical day:\nThis day is practical with time for discussion and questions.\nPlease bring a copy/photo of your online certificate and photographic I.D with you.\nWear comfortable clothing as the day is fun and interactive. \nNEW COURSE LAUNCH!\nDOES YOUR SETTING MEET HSE REQUIREMENTS FOR FIRST AID IN THE WORKPLACE?\nUPGRADE NOW BY ADDING ON THE EMERGENCY FIRST AID AT WORK COURSE FOR ONLY £25 EXTRA\nCOMBINED 12 HOUR PAEDIATRIC AND EMERGENCY FIRST AID AT WORK ONLY £100 & STILL BLENDED LEARNING! \nTo use offer please add EFAWFREE code at checkout!
URL:https://thefirstaidzone.co.uk/event/blended-paediatric-first-aid-course-7-november-2020/
LOCATION:Little Stars Nursery\, 39 Penn Hill Ave\, Poole\, BH14 9LU\, United Kingdom
CATEGORIES:Blended Paediatric Courses
END:VEVENT
BEGIN:VEVENT
DTSTART;TZID=UTC:20201107T093000
DTEND;TZID=UTC:20201107T163000
DTSTAMP:20260424T140340
CREATED:20200916T092835Z
LAST-MODIFIED:20201029T213030Z
UID:4532-1604741400-1604766600@thefirstaidzone.co.uk
SUMMARY:BLENDED PAEDIATRIC COURSE 7 NOVEMBER 2020 - BASINGSTOKE
DESCRIPTION:WE HAVE 1 REMAINING SPACE ON THIS COURSE! \nWE HAVE LIMITED SAPCES ON OUR CHRISTCHURCH COURSE ON 21ST NOVEMBER! \nBOOK EARLY WE ARE RECIEVING A HIGH DEMAND FOR COURSES! \nThis course meets all requirements for Ofsted and is modern blended learning\, comprising of 6 hours online training\, followed by a 6 hour practical classroom course\, on successful completion of the course\, your certificate lasting 3 years\, is issued at the end of the practical day. \nInformation about the online course:\nThe link for the online training will be emailed approximately 1 month before the practical day. Once registered you can access from most computers\, tablets and mobile devices and you can login/out as often as you need. The course is easy to follow and enjoyable. The online course must be completed prior to the practical day. \nInformation about the practical day:\nThis day is practical with time for discussion and questions.\nPlease bring a copy/photo of your online certificate and photographic I.D with you.\nWear comfortable clothing as the day is fun and interactive. \nNEW COURSE LAUNCH!\nDOES YOUR SETTING MEET HSE REQUIREMENTS FOR FIRST AID IN THE WORKPLACE?\nUPGRADE NOW BY ADDING ON THE EMERGENCY FIRST AID AT WORK COURSE FOR ONLY £25 EXTRA\nCOMBINED 12 HOUR PAEDIATRIC AND EMERGENCY FIRST AID AT WORK ONLY £100 & STILL BLENDED LEARNING!
URL:https://thefirstaidzone.co.uk/event/blended-paediatric-course-7-november-2020-2/
LOCATION:ANDOVER YMCA NURSERY\, Grove Road\, Basingstoke\, Hampshire\, RG21 3EE
CATEGORIES:Blended Paediatric Courses
END:VEVENT
END:VCALENDAR