BEGIN:VCALENDAR
VERSION:2.0
PRODID:-//The First Aid Zone - ECPv6.15.17.1//NONSGML v1.0//EN
CALSCALE:GREGORIAN
METHOD:PUBLISH
X-WR-CALNAME:The First Aid Zone
X-ORIGINAL-URL:https://thefirstaidzone.co.uk
X-WR-CALDESC:Events for The First Aid Zone
REFRESH-INTERVAL;VALUE=DURATION:PT1H
X-Robots-Tag:noindex
X-PUBLISHED-TTL:PT1H
BEGIN:VTIMEZONE
TZID:UTC
BEGIN:STANDARD
TZOFFSETFROM:+0000
TZOFFSETTO:+0000
TZNAME:UTC
DTSTART:20200101T000000
END:STANDARD
END:VTIMEZONE
BEGIN:VTIMEZONE
TZID:Europe/London
BEGIN:DAYLIGHT
TZOFFSETFROM:+0000
TZOFFSETTO:+0100
TZNAME:BST
DTSTART:20200329T010000
END:DAYLIGHT
BEGIN:STANDARD
TZOFFSETFROM:+0100
TZOFFSETTO:+0000
TZNAME:GMT
DTSTART:20201025T010000
END:STANDARD
BEGIN:DAYLIGHT
TZOFFSETFROM:+0000
TZOFFSETTO:+0100
TZNAME:BST
DTSTART:20210328T010000
END:DAYLIGHT
BEGIN:STANDARD
TZOFFSETFROM:+0100
TZOFFSETTO:+0000
TZNAME:GMT
DTSTART:20211031T010000
END:STANDARD
BEGIN:DAYLIGHT
TZOFFSETFROM:+0000
TZOFFSETTO:+0100
TZNAME:BST
DTSTART:20220327T010000
END:DAYLIGHT
BEGIN:STANDARD
TZOFFSETFROM:+0100
TZOFFSETTO:+0000
TZNAME:GMT
DTSTART:20221030T010000
END:STANDARD
END:VTIMEZONE
BEGIN:VEVENT
DTSTART;TZID=UTC:20211127T093000
DTEND;TZID=UTC:20211127T163000
DTSTAMP:20260422T224016
CREATED:20201015T153840Z
LAST-MODIFIED:20211013T194518Z
UID:4685-1638005400-1638030600@thefirstaidzone.co.uk
SUMMARY:BLENDED PAEDIATRIC COURSE 27 NOVEMBER 2021 - FARNBOROUGH
DESCRIPTION:BOOK EARLY! WE ARE RECEIVING A HIGH DEMAND FOR COURSES! \nThis course meets all requirements for Ofsted and is modern blended learning\, comprising of  6 hours online training\,  followed by a 6 hour practical classroom course\, on successful completion of the course\, your certificate lasting 3 years\, is issued at the end of the practical day. \nInformation about the online course:\nThe link for the online training will be emailed approximately 1 month before the practical day. Once registered you can access from most computers\, tablets and mobile devices and you can login/out as often as you need. The course is easy to follow and enjoyable. The online course must be completed prior to the practical day. \nInformation about the practical day:\nThis day is practical with time for discussion and questions.\nPlease bring a copy/photo of your online certificate and photographic I.D with you.\nPlease bring lunch/refreshments with you.\nWear comfortable clothing as the day is fun and interactive. \nNEW COURSE LAUNCH!\nDOES YOUR SETTING MEET HSE REQUIREMENTS FOR FIRST AID IN THE WORKPLACE?\nUPGRADE NOW BY ADDING ON THE EMERGENCY FIRST AID AT WORK COURSE FOR ONLY £25 EXTRA\nCOMBINED 12 HOUR PAEDIATRIC AND EMERGENCY FIRST AID AT WORK ONLY £100 & STILL BLENDED LEARNING! \n\n+ GOOGLE CALENDAR+ ICAL EXPORT
URL:https://thefirstaidzone.co.uk/event/blended-paediatric-course-27-novemberber-2021/
LOCATION:Holiday Inn Farnborough\, Lynchford Road\, Farnborough\, GU14 6AZ\, United Kingdom
CATEGORIES:Blended Paediatric Courses
END:VEVENT
BEGIN:VEVENT
DTSTART;TZID=Europe/London:20211127T093000
DTEND;TZID=Europe/London:20211127T163000
DTSTAMP:20260422T224016
CREATED:20211013T194714Z
LAST-MODIFIED:20211013T195228Z
UID:5591-1638005400-1638030600@thefirstaidzone.co.uk
SUMMARY:BLENDED PAEDIATRIC COURSE -27TH NOVEMBER 2021 - SOUTHAMPTON
DESCRIPTION:PLEASE BOOK EARLY WE ARE CURRENTLY RECEIVING A HIGH DEMAND FOR COURSES! \nThis course meets all requirements for Ofsted and is modern blended learning\, comprising of  6 hours online training\,  followed by a 6 hour practical classroom course\, on successful completion of the course\, your certificate lasting 3 years\, is issued after successful completion of the course. \nInformation about the online course:\nThe link for the online training will be emailed approximately 1 month before the practical day. Once registered you can access from most computers\, tablets and mobile devices and you can login/out as often as you need. The course is easy to follow and enjoyable. The online course must be completed prior to the practical day. \nInformation about the practical day:\nThis day is practical with time for discussion and questions.\nPlease bring a copy/photo of your online certificate and photographic I.D with you.\nTea/coffee & biscuits will be available during the day – please bring a packed lunch or you may purchase a lunchtime  snack at the on-site cafe.\nWear comfortable clothing as the day is fun and interactive. \nNEW COURSE LAUNCH!\nDOES YOUR SETTING MEET HSE REQUIREMENTS FOR FIRST AID IN THE WORKPLACE?\nUPGRADE NOW BY ADDING ON THE EMERGENCY FIRST AID AT WORK COURSE FOR ONLY £25 EXTRA\nCOMBINED 12 HOUR PAEDIATRIC AND EMERGENCY FIRST AID AT WORK ONLY £100 & STILL BLENDED LEARNING!
URL:https://thefirstaidzone.co.uk/event/blended-paediatric-course-27th-november-2021/
LOCATION:ymca Eastleigh
CATEGORIES:Blended Paediatric Courses
END:VEVENT
BEGIN:VEVENT
DTSTART;TZID=UTC:20220108T093000
DTEND;TZID=UTC:20220108T163000
DTSTAMP:20260422T224016
CREATED:20211013T204122Z
LAST-MODIFIED:20211229T191116Z
UID:5611-1641634200-1641659400@thefirstaidzone.co.uk
SUMMARY:12HR BLENDED PAEDIATRIC COURSE 8TH JANUARY 2022 CHRISTCHURCH
DESCRIPTION:PLEASE BOOK EARLY WE ARE CURRENTLY RECEIVING A HIGH DEMAND FOR COURSES! \nThis course meets all requirements for Ofsted and is modern blended learning\, comprising of  6 hours online training\,  followed by a 6 hour practical classroom course\, on successful completion of the course\, your certificate lasting 3 years\, is issued after successful completion of the course. \nN.B. Your setting will need to also meet HSE Workplace First Aid requirements – we offer the combined 12hr Paediatric and Emergency First Aid at Work (EFAW) course for an additional £20 – this is achieved by completing  a slightly longer e-learning and 30 minutes at the end of the paediatric practical day! ONLY £100 we do not charge vat! \nInformation about the online course:\nThe link for the online training will be emailed approximately 1 month before the practical day. Once registered you can access from most computers\, tablets and mobile devices and you can login/out as often as you need. The course is easy to follow and enjoyable. The online course must be completed prior to the practical day. \nInformation about the practical day:\nThis day is practical with time for discussion and questions.\nPlease bring a copy/photo of your online certificate and photographic I.D with you.\nWear comfortable clothing as the day is fun and interactive
URL:https://thefirstaidzone.co.uk/event/blended-paediatric-course-8th-january-2022/
LOCATION:Hampshire
CATEGORIES:Blended Paediatric Courses
END:VEVENT
END:VCALENDAR